BEGIN:VCALENDAR
VERSION:2.0
PRODID:-//empowercdc.org//NONSGML kigkonsult.se iCalcreator 2.30.10//
CALSCALE:GREGORIAN
METHOD:PUBLISH
UID:a9afa08d-2831-4977-8ad4-53f1c27032f8
X-WR-CALDESC:Summer Birthday Picnic for residents.
X-WR-RELCALID:9ed31e7d6aca00f7f70eea22fda50f55
X-WR-TIMEZONE:America/Chicago
BEGIN:VTIMEZONE
TZID:America/Chicago
BEGIN:STANDARD
TZNAME:CST
DTSTART:20231105T020000
TZOFFSETFROM:-0500
TZOFFSETTO:-0600
RDATE:20241103T020000
RDATE:20251102T020000
END:STANDARD
BEGIN:DAYLIGHT
TZNAME:CDT
DTSTART:20240310T020000
TZOFFSETFROM:-0600
TZOFFSETTO:-0500
RDATE:20250309T020000
END:DAYLIGHT
END:VTIMEZONE
BEGIN:VEVENT
UID:77692bea-c2bf-481b-bafb-9b331b919846
DTSTAMP:20260422T180414Z
DESCRIPTION:Summer Birthday Picnic for residents.
DTSTART;TZID=America/Chicago:20240709T150000
DTEND;TZID=America/Chicago:20240709T170000
LOCATION:325 Flagship Blvd\, Montgomery\, TX 77316 US
SUMMARY:The Heritage: Summer Birthday Picnic
END:VEVENT
END:VCALENDAR
