BEGIN:VCALENDAR
VERSION:2.0
PRODID:-//empowercdc.org//NONSGML kigkonsult.se iCalcreator 2.30.10//
CALSCALE:GREGORIAN
METHOD:PUBLISH
UID:a8918cad-7d21-4710-9728-8b1e4e81eb25
X-WR-CALDESC:Residents will be working on various art activities. Event for
  Residents only.
X-WR-RELCALID:8ed23de0befd8b9dbf36d663734e533f
X-WR-TIMEZONE:America/Chicago
BEGIN:VTIMEZONE
TZID:America/Chicago
BEGIN:STANDARD
TZNAME:CST
DTSTART:20231105T020000
TZOFFSETFROM:-0500
TZOFFSETTO:-0600
RDATE:20241103T020000
RDATE:20251102T020000
END:STANDARD
BEGIN:DAYLIGHT
TZNAME:CDT
DTSTART:20240310T020000
TZOFFSETFROM:-0600
TZOFFSETTO:-0500
RDATE:20250309T020000
END:DAYLIGHT
END:VTIMEZONE
BEGIN:VEVENT
UID:ac5034b5-c757-42ef-a9f5-453ae0974f7b
DTSTAMP:20260422T180234Z
DESCRIPTION:Residents will be working on various art activities. Event for 
 Residents only.
DTSTART;TZID=America/Chicago:20240709T140000
DTEND;TZID=America/Chicago:20240709T150000
LOCATION:219 Flagship Blvd\, Montgomery\, TX 77316 US
SUMMARY:The Heritage 55+: Arts & Craft
END:VEVENT
END:VCALENDAR
