BEGIN:VCALENDAR
VERSION:2.0
PRODID:-//empowercdc.org//NONSGML kigkonsult.se iCalcreator 2.30.10//
CALSCALE:GREGORIAN
METHOD:PUBLISH
UID:b0a0a248-a82e-47a9-bd86-11c261ebf561
X-WR-CALDESC:Character building event: Dinner Table Etiquette for residents
 .\n\n*Resident only event*
X-WR-RELCALID:ec859fe5d82f8d4eedbca2b21ccd078a
X-WR-TIMEZONE:America/Chicago
BEGIN:VTIMEZONE
TZID:America/Chicago
BEGIN:STANDARD
TZNAME:CST
DTSTART:20231105T020000
TZOFFSETFROM:-0500
TZOFFSETTO:-0600
RDATE:20241103T020000
RDATE:20251102T020000
END:STANDARD
BEGIN:DAYLIGHT
TZNAME:CDT
DTSTART:20240310T020000
TZOFFSETFROM:-0600
TZOFFSETTO:-0500
RDATE:20250309T020000
END:DAYLIGHT
END:VTIMEZONE
BEGIN:VEVENT
UID:ff8ce841-5e4d-4b33-99ba-3c7f394e3f08
DTSTAMP:20260422T175538Z
DESCRIPTION:Character building event: Dinner Table Etiquette for residents.
 \n\n*Resident only event*
DTSTART;TZID=America/Chicago:20240709T130000
DTEND;TZID=America/Chicago:20240709T140000
LOCATION:6725 Brittmoore Road\, Houston\, TX 77041 US
SUMMARY:Brittmoore: Character Bulding
END:VEVENT
END:VCALENDAR
