BEGIN:VCALENDAR
VERSION:2.0
PRODID:-//empowercdc.org//NONSGML kigkonsult.se iCalcreator 2.30.10//
CALSCALE:GREGORIAN
METHOD:PUBLISH
UID:991adafb-2e96-42fa-bc49-0871ab2a9044
X-WR-CALDESC:SOCIAL\nRED\, WHITE\, & BLUE BIRTHDAY\n@1:30PM\n\nEXERCISE: LI
 NE DANCE\n@2:30PM
X-WR-RELCALID:047f790ff3db14c90032a2ece21c2b60
X-WR-TIMEZONE:America/Chicago
BEGIN:VTIMEZONE
TZID:America/Chicago
BEGIN:STANDARD
TZNAME:CST
DTSTART:20231105T020000
TZOFFSETFROM:-0500
TZOFFSETTO:-0600
RDATE:20241103T020000
RDATE:20251102T020000
END:STANDARD
BEGIN:DAYLIGHT
TZNAME:CDT
DTSTART:20240310T020000
TZOFFSETFROM:-0600
TZOFFSETTO:-0500
RDATE:20250309T020000
END:DAYLIGHT
END:VTIMEZONE
BEGIN:VEVENT
UID:0f83d21c-8896-49c9-b9c1-ac1cf455146e
DTSTAMP:20260422T180422Z
DESCRIPTION:SOCIAL\nRED\, WHITE\, & BLUE BIRTHDAY\n@1:30PM\n\nEXERCISE: LIN
 E DANCE\n@2:30PM
DTSTART;TZID=America/Chicago:20240705T133000
DTEND;TZID=America/Chicago:20240705T153000
LOCATION:15707 Kuykendahl Ct\, Conroe\, TX 77384 US
SUMMARY:Kuykendalh Court: Social & Exercise
END:VEVENT
END:VCALENDAR
