BEGIN:VCALENDAR
VERSION:2.0
PRODID:-//empowercdc.org//NONSGML kigkonsult.se iCalcreator 2.30.10//
CALSCALE:GREGORIAN
METHOD:PUBLISH
UID:8fdcd109-5d21-4a05-b16a-f8b25554aa5e
X-WR-CALDESC:CHARACTER BUILDING\nRELATIONSHIP\n@2:30PM\n\nARTS & CRAFTS\nCL
 AY POTS\nCHARACTERS\n@3:30PM
X-WR-RELCALID:be84ddcd06572f7c865f3eab990551c3
X-WR-TIMEZONE:America/Chicago
BEGIN:VTIMEZONE
TZID:America/Chicago
BEGIN:STANDARD
TZNAME:CST
DTSTART:20231105T020000
TZOFFSETFROM:-0500
TZOFFSETTO:-0600
RDATE:20241103T020000
RDATE:20251102T020000
END:STANDARD
BEGIN:DAYLIGHT
TZNAME:CDT
DTSTART:20240310T020000
TZOFFSETFROM:-0600
TZOFFSETTO:-0500
RDATE:20250309T020000
END:DAYLIGHT
END:VTIMEZONE
BEGIN:VEVENT
UID:700366fb-7e10-4e91-a48b-705103ac3900
DTSTAMP:20260422T180259Z
DESCRIPTION:CHARACTER BUILDING\nRELATIONSHIP\n@2:30PM\n\nARTS & CRAFTS\nCLA
 Y POTS\nCHARACTERS\n@3:30PM
DTSTART;TZID=America/Chicago:20240702T143000
DTEND;TZID=America/Chicago:20240702T163000
LOCATION:325 Flagship Boulevard\, Montgomery\, TX 77316 US
SUMMARY:The Heritage: Character Building & Arts + Crafts
END:VEVENT
END:VCALENDAR
