BEGIN:VCALENDAR
VERSION:2.0
PRODID:-//empowercdc.org//NONSGML kigkonsult.se iCalcreator 2.30.10//
CALSCALE:GREGORIAN
METHOD:PUBLISH
UID:424df173-ac01-49df-b8e3-10d90350e670
X-WR-CALDESC:Summer Birthday Picnic for residents.
X-WR-RELCALID:aaf1e4394dc98209b6c7b510061599d0
X-WR-TIMEZONE:America/Chicago
BEGIN:VTIMEZONE
TZID:America/Chicago
BEGIN:STANDARD
TZNAME:CST
DTSTART:20231105T020000
TZOFFSETFROM:-0500
TZOFFSETTO:-0600
RDATE:20241103T020000
RDATE:20251102T020000
END:STANDARD
BEGIN:DAYLIGHT
TZNAME:CDT
DTSTART:20240310T020000
TZOFFSETFROM:-0600
TZOFFSETTO:-0500
RDATE:20250309T020000
END:DAYLIGHT
END:VTIMEZONE
BEGIN:VEVENT
UID:93d39c0c-c8e1-48c9-b83b-dfe497ff8c22
DTSTAMP:20260422T180434Z
DESCRIPTION:Summer Birthday Picnic for residents.
DTSTART;TZID=America/Chicago:20240702T130000
DTEND;TZID=America/Chicago:20240702T150000
LOCATION:219 Flagship Blvd\, Montgomery\, TX 77316 US
SUMMARY:The Heritage 55+: Summer Birthday Picnic
END:VEVENT
END:VCALENDAR
