BEGIN:VCALENDAR
VERSION:2.0
PRODID:-//empowercdc.org//NONSGML kigkonsult.se iCalcreator 2.30.10//
CALSCALE:GREGORIAN
METHOD:PUBLISH
UID:c8517dce-5dcc-476b-b88a-1427a4852dcb
X-WR-CALDESC:Tai Chi Water Aerobics exercise\n\n*Resident only event*
X-WR-RELCALID:5c3e0ab3911634be0bc221d92960c670
X-WR-TIMEZONE:America/Chicago
BEGIN:VTIMEZONE
TZID:America/Chicago
BEGIN:STANDARD
TZNAME:CST
DTSTART:20231105T020000
TZOFFSETFROM:-0500
TZOFFSETTO:-0600
RDATE:20241103T020000
RDATE:20251102T020000
END:STANDARD
BEGIN:DAYLIGHT
TZNAME:CDT
DTSTART:20240310T020000
TZOFFSETFROM:-0600
TZOFFSETTO:-0500
RDATE:20250309T020000
END:DAYLIGHT
END:VTIMEZONE
BEGIN:VEVENT
UID:806d0a42-86a7-4ed9-9f66-152effd08471
DTSTAMP:20260422T175550Z
DESCRIPTION:Tai Chi Water Aerobics exercise\n\n*Resident only event*
DTSTART;TZID=America/Chicago:20240702T100000
DTEND;TZID=America/Chicago:20240702T110000
LOCATION:1830 Hollyoak Dr\, Houston\, TX 77084 US
SUMMARY:Hollyoak: Exercise
END:VEVENT
END:VCALENDAR
