BEGIN:VCALENDAR
VERSION:2.0
PRODID:-//empowercdc.org//NONSGML kigkonsult.se iCalcreator 2.30.10//
CALSCALE:GREGORIAN
METHOD:PUBLISH
UID:405c6cb6-eea0-4191-87c1-0cf02f79e619
X-WR-CALDESC:Residents will be working on varies art activities.\n\n*Reside
 nt event only*
X-WR-RELCALID:8108300b4b195ad4c3d816a886d830fd
X-WR-TIMEZONE:America/Chicago
BEGIN:VTIMEZONE
TZID:America/Chicago
BEGIN:STANDARD
TZNAME:CST
DTSTART:20231105T020000
TZOFFSETFROM:-0500
TZOFFSETTO:-0600
RDATE:20241103T020000
RDATE:20251102T020000
END:STANDARD
BEGIN:DAYLIGHT
TZNAME:CDT
DTSTART:20240310T020000
TZOFFSETFROM:-0600
TZOFFSETTO:-0500
RDATE:20250309T020000
END:DAYLIGHT
END:VTIMEZONE
BEGIN:VEVENT
UID:0183daef-d2c1-414b-a30f-70728619e772
DTSTAMP:20260422T164427Z
DESCRIPTION:Residents will be working on varies art activities.\n\n*Residen
 t event only*
DTSTART;TZID=America/Chicago:20240628T133000
DTEND;TZID=America/Chicago:20240628T153000
LOCATION:15707 Kuykendahl Ct\, Conroe\, TX 77384 US
SUMMARY:Kuykendalh Court: Arts & Crafts
END:VEVENT
END:VCALENDAR
