BEGIN:VCALENDAR
VERSION:2.0
PRODID:-//empowercdc.org//NONSGML kigkonsult.se iCalcreator 2.30.10//
CALSCALE:GREGORIAN
METHOD:PUBLISH
UID:5c4ae1c8-0c7f-416b-a079-e03ced2d60b3
X-WR-CALDESC:Potluck Pool Party\n\n*Residents only event*
X-WR-RELCALID:b7f4d12ef6b510e5815261cf5f7766eb
X-WR-TIMEZONE:America/Chicago
BEGIN:VTIMEZONE
TZID:America/Chicago
BEGIN:STANDARD
TZNAME:CST
DTSTART:20231105T020000
TZOFFSETFROM:-0500
TZOFFSETTO:-0600
RDATE:20241103T020000
RDATE:20251102T020000
END:STANDARD
BEGIN:DAYLIGHT
TZNAME:CDT
DTSTART:20240310T020000
TZOFFSETFROM:-0600
TZOFFSETTO:-0500
RDATE:20250309T020000
END:DAYLIGHT
END:VTIMEZONE
BEGIN:VEVENT
UID:a39fb7ed-3ff0-4b7d-ac59-bf2c79efc27e
DTSTAMP:20260422T164050Z
DESCRIPTION:Potluck Pool Party\n\n*Residents only event*
DTSTART;TZID=America/Chicago:20240627T150000
DTEND;TZID=America/Chicago:20240627T170000
LOCATION:219 Flagship Bld\, Montgomery\, TX 77316 US
SUMMARY:The Heritage: Potluck Pool Party
END:VEVENT
END:VCALENDAR
