BEGIN:VCALENDAR
VERSION:2.0
PRODID:-//empowercdc.org//NONSGML kigkonsult.se iCalcreator 2.30.10//
CALSCALE:GREGORIAN
METHOD:PUBLISH
UID:99fe50f0-b3f1-418e-a1c8-413e41b1c5ca
X-WR-CALDESC:Potluck Pool Party\n\n*Residents only event*
X-WR-RELCALID:79b4ed54d4bc3ecdb6eac11db2ec4a4c
X-WR-TIMEZONE:America/Chicago
BEGIN:VTIMEZONE
TZID:America/Chicago
BEGIN:STANDARD
TZNAME:CST
DTSTART:20231105T020000
TZOFFSETFROM:-0500
TZOFFSETTO:-0600
RDATE:20241103T020000
RDATE:20251102T020000
END:STANDARD
BEGIN:DAYLIGHT
TZNAME:CDT
DTSTART:20240310T020000
TZOFFSETFROM:-0600
TZOFFSETTO:-0500
RDATE:20250309T020000
END:DAYLIGHT
END:VTIMEZONE
BEGIN:VEVENT
UID:5c0c15d2-a121-4f59-944b-0008e30bac63
DTSTAMP:20260422T164110Z
DESCRIPTION:Potluck Pool Party\n\n*Residents only event*
DTSTART;TZID=America/Chicago:20240627T130000
DTEND;TZID=America/Chicago:20240627T150000
LOCATION:1120 Moy St\, Houston\, TX 77007 US
SUMMARY:The Heritage 55+: Potluck Pool Party
END:VEVENT
END:VCALENDAR
