BEGIN:VCALENDAR
VERSION:2.0
PRODID:-//empowercdc.org//NONSGML kigkonsult.se iCalcreator 2.30.10//
CALSCALE:GREGORIAN
METHOD:PUBLISH
UID:00523191-4329-431b-bcc6-1114f3ff2067
X-WR-CALDESC:Health Bingo\n\n*Resident only event*
X-WR-RELCALID:dcff018371ae85a0b6c020c934efe9ff
X-WR-TIMEZONE:America/Chicago
BEGIN:VTIMEZONE
TZID:America/Chicago
BEGIN:STANDARD
TZNAME:CST
DTSTART:20231105T020000
TZOFFSETFROM:-0500
TZOFFSETTO:-0600
RDATE:20241103T020000
RDATE:20251102T020000
END:STANDARD
BEGIN:DAYLIGHT
TZNAME:CDT
DTSTART:20240310T020000
TZOFFSETFROM:-0600
TZOFFSETTO:-0500
RDATE:20250309T020000
END:DAYLIGHT
END:VTIMEZONE
BEGIN:VEVENT
UID:31387c70-2637-441b-a7fa-88012c939a13
DTSTAMP:20260422T164259Z
DESCRIPTION:Health Bingo\n\n*Resident only event*
DTSTART;TZID=America/Chicago:20240627T110000
DTEND;TZID=America/Chicago:20240627T130000
LOCATION:1830 Hollyoak Dr\, Houston\, TX 77084 US
SUMMARY:Hollyoak: Health & Nutrition
END:VEVENT
END:VCALENDAR
