BEGIN:VCALENDAR
VERSION:2.0
PRODID:-//empowercdc.org//NONSGML kigkonsult.se iCalcreator 2.30.10//
CALSCALE:GREGORIAN
METHOD:PUBLISH
UID:f81ad8b5-6422-419d-ad8c-5fff4ca14968
X-WR-CALDESC:
X-WR-RELCALID:9da29311558191d478b78cafdf432661
X-WR-TIMEZONE:America/Chicago
BEGIN:VTIMEZONE
TZID:America/Chicago
BEGIN:STANDARD
TZNAME:CST
DTSTART:20231105T020000
TZOFFSETFROM:-0500
TZOFFSETTO:-0600
RDATE:20241103T020000
RDATE:20251102T020000
END:STANDARD
BEGIN:DAYLIGHT
TZNAME:CDT
DTSTART:20240310T020000
TZOFFSETFROM:-0600
TZOFFSETTO:-0500
RDATE:20250309T020000
END:DAYLIGHT
END:VTIMEZONE
BEGIN:VEVENT
UID:bd1d1ba4-8c69-4538-a9a5-c13b1401cd3b
DTSTAMP:20260422T163753Z
DESCRIPTION:
DTSTART;TZID=America/Chicago:20240626T113000
DTEND;TZID=America/Chicago:20240626T130000
LOCATION:635 US-290 BUS\, Hempstead\, TX 77445 US
SUMMARY:Free Book Giveaway
END:VEVENT
END:VCALENDAR
