BEGIN:VCALENDAR
VERSION:2.0
PRODID:-//empowercdc.org//NONSGML kigkonsult.se iCalcreator 2.30.10//
CALSCALE:GREGORIAN
METHOD:PUBLISH
UID:11651e0c-95e2-4b66-b5b6-62f4605ad58e
X-WR-CALDESC:Game Day: Dominoes\n\n*Residents only event*
X-WR-RELCALID:a65a7ec90c057822563c6885483d6f40
X-WR-TIMEZONE:America/Chicago
BEGIN:VTIMEZONE
TZID:America/Chicago
BEGIN:STANDARD
TZNAME:CST
DTSTART:20231105T020000
TZOFFSETFROM:-0500
TZOFFSETTO:-0600
RDATE:20241103T020000
RDATE:20251102T020000
END:STANDARD
BEGIN:DAYLIGHT
TZNAME:CDT
DTSTART:20240310T020000
TZOFFSETFROM:-0600
TZOFFSETTO:-0500
RDATE:20250309T020000
END:DAYLIGHT
END:VTIMEZONE
BEGIN:VEVENT
UID:d6e85c2a-2f54-4166-a210-1da9d2e01513
DTSTAMP:20260422T163613Z
DESCRIPTION:Game Day: Dominoes\n\n*Residents only event*
DTSTART;TZID=America/Chicago:20240625T150000
DTEND;TZID=America/Chicago:20240625T170000
LOCATION:219 Flagship Bld\, Montgomery\, TX 77316 US
SUMMARY:The Heritage: Game Day
END:VEVENT
END:VCALENDAR
