BEGIN:VCALENDAR
VERSION:2.0
PRODID:-//empowercdc.org//NONSGML kigkonsult.se iCalcreator 2.30.10//
CALSCALE:GREGORIAN
METHOD:PUBLISH
UID:7bd50b3c-f719-4c5b-92c4-9ebb89199e1c
X-WR-CALDESC:Residents will be working on varies art activities.\n\nDominoe
 s at 1PM\n\n*Residents only event*
X-WR-RELCALID:6dbbec484ce2889f05c80676558b1cb7
X-WR-TIMEZONE:America/Chicago
BEGIN:VTIMEZONE
TZID:America/Chicago
BEGIN:STANDARD
TZNAME:CST
DTSTART:20231105T020000
TZOFFSETFROM:-0500
TZOFFSETTO:-0600
RDATE:20241103T020000
RDATE:20251102T020000
END:STANDARD
BEGIN:DAYLIGHT
TZNAME:CDT
DTSTART:20240310T020000
TZOFFSETFROM:-0600
TZOFFSETTO:-0500
RDATE:20250309T020000
END:DAYLIGHT
END:VTIMEZONE
BEGIN:VEVENT
UID:609a97c3-8b3f-4563-90b7-b45aec0a9947
DTSTAMP:20260422T164340Z
DESCRIPTION:Residents will be working on varies art activities.\n\nDominoes
  at 1PM\n\n*Residents only event*
DTSTART;TZID=America/Chicago:20240625T120000
DTEND;TZID=America/Chicago:20240625T140000
LOCATION:219 Flagship Blvd\, Montgomery\, TX 77316 US
SUMMARY:The Heritage 55+: Arts & Crafts + Game Day
END:VEVENT
END:VCALENDAR
