BEGIN:VCALENDAR
VERSION:2.0
PRODID:-//empowercdc.org//NONSGML kigkonsult.se iCalcreator 2.30.10//
CALSCALE:GREGORIAN
METHOD:PUBLISH
UID:b2f75476-5b35-46f1-a8de-3027b41573c4
X-WR-CALDESC:Tai Chi Water Aerobics exercise\n\n*Resident only event*
X-WR-RELCALID:88751c8ae1ab017fdb23537fe42eb70c
X-WR-TIMEZONE:America/Chicago
BEGIN:VTIMEZONE
TZID:America/Chicago
BEGIN:STANDARD
TZNAME:CST
DTSTART:20231105T020000
TZOFFSETFROM:-0500
TZOFFSETTO:-0600
RDATE:20241103T020000
RDATE:20251102T020000
END:STANDARD
BEGIN:DAYLIGHT
TZNAME:CDT
DTSTART:20240310T020000
TZOFFSETFROM:-0600
TZOFFSETTO:-0500
RDATE:20250309T020000
END:DAYLIGHT
END:VTIMEZONE
BEGIN:VEVENT
UID:52294476-de7f-4bb7-863a-636ad11c6cb3
DTSTAMP:20260422T162426Z
DESCRIPTION:Tai Chi Water Aerobics exercise\n\n*Resident only event*
DTSTART;TZID=America/Chicago:20240624T100000
DTEND;TZID=America/Chicago:20240624T120000
LOCATION:1830 Hollyoak Dr\, Houston\, TX 77084 US
SUMMARY:Hollyoak: Exercise
END:VEVENT
END:VCALENDAR
