BEGIN:VCALENDAR
VERSION:2.0
PRODID:-//empowercdc.org//NONSGML kigkonsult.se iCalcreator 2.30.10//
CALSCALE:GREGORIAN
METHOD:PUBLISH
UID:93274524-3db6-4797-93ef-fab2b6261e56
X-WR-CALDESC:Tropical Paradise Pool Party\n\n*Resident only event*
X-WR-RELCALID:8cfbf66f72e1a1c6f4d8b028056529b1
X-WR-TIMEZONE:America/Chicago
BEGIN:VTIMEZONE
TZID:America/Chicago
BEGIN:STANDARD
TZNAME:CST
DTSTART:20231105T020000
TZOFFSETFROM:-0500
TZOFFSETTO:-0600
RDATE:20241103T020000
RDATE:20251102T020000
END:STANDARD
BEGIN:DAYLIGHT
TZNAME:CDT
DTSTART:20240310T020000
TZOFFSETFROM:-0600
TZOFFSETTO:-0500
RDATE:20250309T020000
END:DAYLIGHT
END:VTIMEZONE
BEGIN:VEVENT
UID:7270d4dc-9c02-49f7-9ec4-91a6fbba620c
DTSTAMP:20260419T124847Z
DESCRIPTION:Tropical Paradise Pool Party\n\n*Resident only event*
DTSTART;TZID=America/Chicago:20240620T110000
DTEND;TZID=America/Chicago:20240620T130000
LOCATION:1717 FM359\, Richmond\, TX 77406 US
SUMMARY:Jones Creek: Social
END:VEVENT
END:VCALENDAR
