BEGIN:VCALENDAR
VERSION:2.0
PRODID:-//empowercdc.org//NONSGML kigkonsult.se iCalcreator 2.30.10//
CALSCALE:GREGORIAN
METHOD:PUBLISH
UID:51740340-1a23-4b1c-915f-d1a6dbd18d0b
X-WR-CALDESC:EXERCISE: DANCE WITH ME\n@10:00AM\n\nHEALTH FAIR\n@12PM
X-WR-RELCALID:e8629fd5acbb94cfb6fe974ce6eb8de6
X-WR-TIMEZONE:America/Chicago
BEGIN:VTIMEZONE
TZID:America/Chicago
BEGIN:STANDARD
TZNAME:CST
DTSTART:20231105T020000
TZOFFSETFROM:-0500
TZOFFSETTO:-0600
RDATE:20241103T020000
RDATE:20251102T020000
END:STANDARD
BEGIN:DAYLIGHT
TZNAME:CDT
DTSTART:20240310T020000
TZOFFSETFROM:-0600
TZOFFSETTO:-0500
RDATE:20250309T020000
END:DAYLIGHT
END:VTIMEZONE
BEGIN:VEVENT
UID:4d9641d2-c020-4d35-81c2-7bea745aeacb
DTSTAMP:20260422T164514Z
DESCRIPTION:EXERCISE: DANCE WITH ME\n@10:00AM\n\nHEALTH FAIR\n@12PM
DTSTART;TZID=America/Chicago:20240619T100000
DTEND;TZID=America/Chicago:20240619T130000
LOCATION:15707 Kuykendahl Ct\, Conroe\, TX 77384 US
SUMMARY:Kuykendalh Court: Exercise & Health Fair
END:VEVENT
END:VCALENDAR
