BEGIN:VCALENDAR
VERSION:2.0
PRODID:-//empowercdc.org//NONSGML kigkonsult.se iCalcreator 2.30.10//
CALSCALE:GREGORIAN
METHOD:PUBLISH
UID:60841982-04f6-47e0-944a-0ef64a47463b
X-WR-CALDESC:Residents will be working on varies art activities.\n\n*Reside
 nts only event*
X-WR-RELCALID:13b2ece3548ee64a6d16e341580562b0
X-WR-TIMEZONE:America/Chicago
BEGIN:VTIMEZONE
TZID:America/Chicago
BEGIN:STANDARD
TZNAME:CST
DTSTART:20231105T020000
TZOFFSETFROM:-0500
TZOFFSETTO:-0600
RDATE:20241103T020000
RDATE:20251102T020000
END:STANDARD
BEGIN:DAYLIGHT
TZNAME:CDT
DTSTART:20240310T020000
TZOFFSETFROM:-0600
TZOFFSETTO:-0500
RDATE:20250309T020000
END:DAYLIGHT
END:VTIMEZONE
BEGIN:VEVENT
UID:cd190bf3-a812-4e7a-993b-1f85b407de22
DTSTAMP:20260422T163829Z
DESCRIPTION:Residents will be working on varies art activities.\n\n*Residen
 ts only event*
DTSTART;TZID=America/Chicago:20240618T150000
DTEND;TZID=America/Chicago:20240618T170000
LOCATION:219 Flagship Bld\, Montgomery\, TX 77316 US
SUMMARY:The Heritage: Arts & Crafts
END:VEVENT
END:VCALENDAR
