BEGIN:VCALENDAR
VERSION:2.0
PRODID:-//empowercdc.org//NONSGML kigkonsult.se iCalcreator 2.30.10//
CALSCALE:GREGORIAN
METHOD:PUBLISH
UID:a37e19fc-38aa-4318-9af7-3b94d0b0430f
X-WR-CALDESC:Dance With Me exercise.\n\n*Resident event only*
X-WR-RELCALID:96f50ae213905f84aaeb0420bcd811be
X-WR-TIMEZONE:America/Chicago
BEGIN:VTIMEZONE
TZID:America/Chicago
BEGIN:STANDARD
TZNAME:CST
DTSTART:20231105T020000
TZOFFSETFROM:-0500
TZOFFSETTO:-0600
RDATE:20241103T020000
RDATE:20251102T020000
END:STANDARD
BEGIN:DAYLIGHT
TZNAME:CDT
DTSTART:20240310T020000
TZOFFSETFROM:-0600
TZOFFSETTO:-0500
RDATE:20250309T020000
END:DAYLIGHT
END:VTIMEZONE
BEGIN:VEVENT
UID:7452574b-d924-4323-bfd9-4fe837936bb2
DTSTAMP:20260422T163829Z
DESCRIPTION:Dance With Me exercise.\n\n*Resident event only*
DTSTART;TZID=America/Chicago:20240618T133000
DTEND;TZID=America/Chicago:20240618T150000
LOCATION:15707 Kuykendahl Ct\, Conroe\, TX 77384 US
SUMMARY:Kuykendalh Court: Exercise
END:VEVENT
END:VCALENDAR
