BEGIN:VCALENDAR
VERSION:2.0
PRODID:-//empowercdc.org//NONSGML kigkonsult.se iCalcreator 2.30.10//
CALSCALE:GREGORIAN
METHOD:PUBLISH
UID:bdefb7ca-cc3e-4802-b4dd-dd2549d780c6
X-WR-CALDESC:Fitness Bingo\n\n*Residents only event*
X-WR-RELCALID:e1086c853b660dad08c56bca4994f43e
X-WR-TIMEZONE:America/Chicago
BEGIN:VTIMEZONE
TZID:America/Chicago
BEGIN:STANDARD
TZNAME:CST
DTSTART:20231105T020000
TZOFFSETFROM:-0500
TZOFFSETTO:-0600
RDATE:20241103T020000
RDATE:20251102T020000
END:STANDARD
BEGIN:DAYLIGHT
TZNAME:CDT
DTSTART:20240310T020000
TZOFFSETFROM:-0600
TZOFFSETTO:-0500
RDATE:20250309T020000
END:DAYLIGHT
END:VTIMEZONE
BEGIN:VEVENT
UID:f0e9ad76-4a61-4756-a040-f40ef319c163
DTSTAMP:20260422T162053Z
DESCRIPTION:Fitness Bingo\n\n*Residents only event*
DTSTART;TZID=America/Chicago:20240617T130000
DTEND;TZID=America/Chicago:20240617T150000
LOCATION:12353 Huffmeister Rd\, Cypress\, TX 77429 US
SUMMARY:The Meadows: Exercise
END:VEVENT
END:VCALENDAR
