BEGIN:VCALENDAR
VERSION:2.0
PRODID:-//empowercdc.org//NONSGML kigkonsult.se iCalcreator 2.30.10//
CALSCALE:GREGORIAN
METHOD:PUBLISH
UID:70ebc804-1286-4505-83b5-08be4191c852
X-WR-CALDESC:Walk With Me exercise\n\n*Resident only event*
X-WR-RELCALID:1f6965b4057e45c71ab836d8a9f4b701
X-WR-TIMEZONE:America/Chicago
BEGIN:VTIMEZONE
TZID:America/Chicago
BEGIN:STANDARD
TZNAME:CST
DTSTART:20231105T020000
TZOFFSETFROM:-0500
TZOFFSETTO:-0600
RDATE:20241103T020000
RDATE:20251102T020000
END:STANDARD
BEGIN:DAYLIGHT
TZNAME:CDT
DTSTART:20240310T020000
TZOFFSETFROM:-0600
TZOFFSETTO:-0500
RDATE:20250309T020000
END:DAYLIGHT
END:VTIMEZONE
BEGIN:VEVENT
UID:9919e616-b96c-46ba-a24e-2505da1c0ade
DTSTAMP:20260422T163442Z
DESCRIPTION:Walk With Me exercise\n\n*Resident only event*
DTSTART;TZID=America/Chicago:20240617T110000
DTEND;TZID=America/Chicago:20240617T130000
LOCATION:1717 FM359\, Richmond\, TX 77406 US
SUMMARY:Jones Creek: Exercise
END:VEVENT
END:VCALENDAR
