BEGIN:VCALENDAR
VERSION:2.0
PRODID:-//empowercdc.org//NONSGML kigkonsult.se iCalcreator 2.30.10//
CALSCALE:GREGORIAN
METHOD:PUBLISH
UID:c347e352-62b2-4dba-bfa9-63777967c592
X-WR-CALDESC:Residents will be working on varies art activities. \n\n*Resid
 ent only event*
X-WR-RELCALID:bfe5f48afdd6f5c4ebe7a4568c05b7e5
X-WR-TIMEZONE:America/Chicago
BEGIN:VTIMEZONE
TZID:America/Chicago
BEGIN:STANDARD
TZNAME:CST
DTSTART:20231105T020000
TZOFFSETFROM:-0500
TZOFFSETTO:-0600
RDATE:20241103T020000
RDATE:20251102T020000
END:STANDARD
BEGIN:DAYLIGHT
TZNAME:CDT
DTSTART:20240310T020000
TZOFFSETFROM:-0600
TZOFFSETTO:-0500
RDATE:20250309T020000
END:DAYLIGHT
END:VTIMEZONE
BEGIN:VEVENT
UID:64261217-46cf-4d14-8336-ba8568b0f98e
DTSTAMP:20260422T163721Z
DESCRIPTION:Residents will be working on varies art activities. \n\n*Reside
 nt only event*
DTSTART;TZID=America/Chicago:20240614T133000
DTEND;TZID=America/Chicago:20240614T153000
LOCATION:1620 Spencer Hwy\, South Houston\, TX 77587 US
SUMMARY:Windsor Gardens: Arts & Crafts
END:VEVENT
END:VCALENDAR
