BEGIN:VCALENDAR
VERSION:2.0
PRODID:-//empowercdc.org//NONSGML kigkonsult.se iCalcreator 2.30.10//
CALSCALE:GREGORIAN
METHOD:PUBLISH
UID:3e831c7f-6a18-42a0-8077-e5fa6345bb45
X-WR-CALDESC:Residents will be working on various art activities. \n\n*Resi
 dents only event*
X-WR-RELCALID:c5ca4946f6198e3d4cf7a6af61c72f0c
X-WR-TIMEZONE:America/Chicago
BEGIN:VTIMEZONE
TZID:America/Chicago
BEGIN:STANDARD
TZNAME:CST
DTSTART:20231105T020000
TZOFFSETFROM:-0500
TZOFFSETTO:-0600
RDATE:20241103T020000
RDATE:20251102T020000
END:STANDARD
BEGIN:DAYLIGHT
TZNAME:CDT
DTSTART:20240310T020000
TZOFFSETFROM:-0600
TZOFFSETTO:-0500
RDATE:20250309T020000
END:DAYLIGHT
END:VTIMEZONE
BEGIN:VEVENT
UID:3a671b8d-f79b-46f9-96bc-8197c2f0ef26
DTSTAMP:20260422T163630Z
DESCRIPTION:Residents will be working on various art activities. \n\n*Resid
 ents only event*
DTSTART;TZID=America/Chicago:20240614T130000
DTEND;TZID=America/Chicago:20240614T150000
LOCATION:12353 Huffmeister Rd\, Cypress\, TX 77429 US
SUMMARY:The Meadows: Arts & Crafts
END:VEVENT
END:VCALENDAR
