BEGIN:VCALENDAR
VERSION:2.0
PRODID:-//empowercdc.org//NONSGML kigkonsult.se iCalcreator 2.30.10//
CALSCALE:GREGORIAN
METHOD:PUBLISH
UID:61afa6f2-22c0-4583-b189-237620ec61f3
X-WR-CALDESC:Residents will be working on varies art activities.\n\n*Reside
 nt event only*
X-WR-RELCALID:c001fffb1daedc8152b2a98e6053d46d
X-WR-TIMEZONE:America/Chicago
BEGIN:VTIMEZONE
TZID:America/Chicago
BEGIN:STANDARD
TZNAME:CST
DTSTART:20231105T020000
TZOFFSETFROM:-0500
TZOFFSETTO:-0600
RDATE:20241103T020000
RDATE:20251102T020000
END:STANDARD
BEGIN:DAYLIGHT
TZNAME:CDT
DTSTART:20240310T020000
TZOFFSETFROM:-0600
TZOFFSETTO:-0500
RDATE:20250309T020000
END:DAYLIGHT
END:VTIMEZONE
BEGIN:VEVENT
UID:0d6926b7-f3e3-4750-9b8c-d7c2f02de8bd
DTSTAMP:20260422T164504Z
DESCRIPTION:Residents will be working on varies art activities.\n\n*Residen
 t event only*
DTSTART;TZID=America/Chicago:20240614T133000
DTEND;TZID=America/Chicago:20240614T153000
LOCATION:15707 Kuykendahl Ct\, Conroe\, TX 77384 US
SUMMARY:Kuykendalh Court: Arts & Crafts
END:VEVENT
END:VCALENDAR
