BEGIN:VCALENDAR
VERSION:2.0
PRODID:-//empowercdc.org//NONSGML kigkonsult.se iCalcreator 2.30.10//
CALSCALE:GREGORIAN
METHOD:PUBLISH
UID:a1f4b296-6608-49d5-8222-dc79fa8e0a14
X-WR-CALDESC:Targeting youth entering in 7th grade or above\, these 60 minu
 te events discussed such things as: developing a college mindset\, time ma
 nagement\, SMART goals\, and career goals. We concluded our time by donati
 ng backpacks and school supplies.
X-WR-RELCALID:5b65ca0ac29d9b01c40f7fc70a5ef023
X-WR-TIMEZONE:America/Chicago
BEGIN:VTIMEZONE
TZID:America/Chicago
BEGIN:STANDARD
TZNAME:CST
DTSTART:20231105T020000
TZOFFSETFROM:-0500
TZOFFSETTO:-0600
RDATE:20241103T020000
RDATE:20251102T020000
END:STANDARD
BEGIN:DAYLIGHT
TZNAME:CDT
DTSTART:20240310T020000
TZOFFSETFROM:-0600
TZOFFSETTO:-0500
RDATE:20250309T020000
END:DAYLIGHT
END:VTIMEZONE
BEGIN:VEVENT
UID:31367a68-53ae-40d2-ac5b-99ecaf9e14ba
DTSTAMP:20260422T162745Z
DESCRIPTION:Targeting youth entering in 7th grade or above\, these 60 minut
 e events discussed such things as: developing a college mindset\, time man
 agement\, SMART goals\, and career goals. We concluded our time by donatin
 g backpacks and school supplies.
DTSTART;TZID=America/Chicago:20240613T133000
DTEND;TZID=America/Chicago:20240613T153000
LOCATION:4900 Providence Street\, Houston\, TX 77020 US
SUMMARY:Project Canvas: College 101 'Summer Workshop'
END:VEVENT
END:VCALENDAR
