BEGIN:VCALENDAR
VERSION:2.0
PRODID:-//empowercdc.org//NONSGML kigkonsult.se iCalcreator 2.30.10//
CALSCALE:GREGORIAN
METHOD:PUBLISH
UID:af70f6bf-3ce7-4612-ad9d-ae619088b810
X-WR-CALDESC:Walk With Me exercise\n\n*Resident only event*
X-WR-RELCALID:31a5b6c44f9d39040512df2edb2b1a59
X-WR-TIMEZONE:America/Chicago
BEGIN:VTIMEZONE
TZID:America/Chicago
BEGIN:STANDARD
TZNAME:CST
DTSTART:20231105T020000
TZOFFSETFROM:-0500
TZOFFSETTO:-0600
RDATE:20241103T020000
RDATE:20251102T020000
END:STANDARD
BEGIN:DAYLIGHT
TZNAME:CDT
DTSTART:20240310T020000
TZOFFSETFROM:-0600
TZOFFSETTO:-0500
RDATE:20250309T020000
END:DAYLIGHT
END:VTIMEZONE
BEGIN:VEVENT
UID:db4c91c7-f007-43d9-a845-f27e573742d0
DTSTAMP:20260422T202640Z
DESCRIPTION:Walk With Me exercise\n\n*Resident only event*
DTSTART;TZID=America/Chicago:20240613T110000
DTEND;TZID=America/Chicago:20240613T130000
LOCATION:1717 FM359\, Richmond\, TX 77406 US
SUMMARY:Jones Creek: Exercise
END:VEVENT
END:VCALENDAR
