BEGIN:VCALENDAR
VERSION:2.0
PRODID:-//empowercdc.org//NONSGML kigkonsult.se iCalcreator 2.30.10//
CALSCALE:GREGORIAN
METHOD:PUBLISH
UID:928a4ed6-cd66-4294-b587-87a74c007612
X-WR-CALDESC:SOCIAL- Empower\nPre-Father’s Day Resident Brunch\n@ 10:00AM\n
 \nARTS & CRAFTS-DoTerra\nDoTerra Essentials\n@ 11:00AM\n\n*Resident only e
 vent*
X-WR-RELCALID:3f0ca34e1da7307122c60e8963dfa0c3
X-WR-TIMEZONE:America/Chicago
BEGIN:VTIMEZONE
TZID:America/Chicago
BEGIN:STANDARD
TZNAME:CST
DTSTART:20231105T020000
TZOFFSETFROM:-0500
TZOFFSETTO:-0600
RDATE:20241103T020000
RDATE:20251102T020000
END:STANDARD
BEGIN:DAYLIGHT
TZNAME:CDT
DTSTART:20240310T020000
TZOFFSETFROM:-0600
TZOFFSETTO:-0500
RDATE:20250309T020000
END:DAYLIGHT
END:VTIMEZONE
BEGIN:VEVENT
UID:1720b228-66a6-4cd4-b2ac-92a17aec0798
DTSTAMP:20260422T164232Z
DESCRIPTION:SOCIAL- Empower\nPre-Father’s Day Resident Brunch\n@ 10:00AM\n
 \nARTS & CRAFTS-DoTerra\nDoTerra Essentials\n@ 11:00AM\n\n*Resident only e
 vent*
DTSTART;TZID=America/Chicago:20240613T110000
DTEND;TZID=America/Chicago:20240613T140000
LOCATION:1830 Hollyoak Dr\, Houston\, TX 77084 US
SUMMARY:Hollyoak: Social\, Arts & Crafts
END:VEVENT
END:VCALENDAR
