BEGIN:VCALENDAR
VERSION:2.0
PRODID:-//empowercdc.org//NONSGML kigkonsult.se iCalcreator 2.30.10//
CALSCALE:GREGORIAN
METHOD:PUBLISH
UID:2f38c1d1-136a-4149-849e-ff8ae5e493e3
X-WR-CALDESC:ARTS & CRAFTS: CANVAS PAINTING\n@1:30PM\n\nEXERCISE: DANCE WIT
 H ME\n@2:30PM
X-WR-RELCALID:1690682e6d7cdce173871711e478a8a7
X-WR-TIMEZONE:America/Chicago
BEGIN:VTIMEZONE
TZID:America/Chicago
BEGIN:STANDARD
TZNAME:CST
DTSTART:20231105T020000
TZOFFSETFROM:-0500
TZOFFSETTO:-0600
RDATE:20241103T020000
RDATE:20251102T020000
END:STANDARD
BEGIN:DAYLIGHT
TZNAME:CDT
DTSTART:20240310T020000
TZOFFSETFROM:-0600
TZOFFSETTO:-0500
RDATE:20250309T020000
END:DAYLIGHT
END:VTIMEZONE
BEGIN:VEVENT
UID:f3e1bb84-3dc2-4b40-9667-ba6533de95de
DTSTAMP:20260422T164401Z
DESCRIPTION:ARTS & CRAFTS: CANVAS PAINTING\n@1:30PM\n\nEXERCISE: DANCE WITH
  ME\n@2:30PM
DTSTART;TZID=America/Chicago:20240612T133000
DTEND;TZID=America/Chicago:20240612T153000
LOCATION:15707 Kuykendahl Ct\, Conroe\, TX 77384 US
SUMMARY:Kuykendalh Court: Exercise\, Arts & Crafts
END:VEVENT
END:VCALENDAR
