BEGIN:VCALENDAR
VERSION:2.0
PRODID:-//empowercdc.org//NONSGML kigkonsult.se iCalcreator 2.30.10//
CALSCALE:GREGORIAN
METHOD:PUBLISH
UID:980f4b13-97b5-4fab-aded-f62d85b8740f
X-WR-CALDESC:Food Pantry Event for Residents.
X-WR-RELCALID:ec8f4c98d214273d43ea327d49f13bac
X-WR-TIMEZONE:America/Chicago
BEGIN:VTIMEZONE
TZID:America/Chicago
BEGIN:STANDARD
TZNAME:CST
DTSTART:20231105T020000
TZOFFSETFROM:-0500
TZOFFSETTO:-0600
RDATE:20241103T020000
RDATE:20251102T020000
END:STANDARD
BEGIN:DAYLIGHT
TZNAME:CDT
DTSTART:20240310T020000
TZOFFSETFROM:-0600
TZOFFSETTO:-0500
RDATE:20250309T020000
END:DAYLIGHT
END:VTIMEZONE
BEGIN:VEVENT
UID:84d026c1-941a-4ab7-924a-9d0d1f07606c
DTSTAMP:20260422T163932Z
DESCRIPTION:Food Pantry Event for Residents.
DTSTART;TZID=America/Chicago:20240611T113000
DTEND;TZID=America/Chicago:20240611T140000
LOCATION:1620 Spencer Hwy\, South Houston\, TX 77587 US
SUMMARY:Windsor Gardens: Food Pantry
END:VEVENT
END:VCALENDAR
