BEGIN:VCALENDAR
VERSION:2.0
PRODID:-//empowercdc.org//NONSGML kigkonsult.se iCalcreator 2.30.10//
CALSCALE:GREGORIAN
METHOD:PUBLISH
UID:9a87780c-319d-4cd1-9a20-f896e12c11fa
X-WR-CALDESC:Residents will be working on varies art activities.\n\n*Reside
 nts only event*
X-WR-RELCALID:2b1c400bd26bfc2d6b91f3ecf084880f
X-WR-TIMEZONE:America/Chicago
BEGIN:VTIMEZONE
TZID:America/Chicago
BEGIN:STANDARD
TZNAME:CST
DTSTART:20231105T020000
TZOFFSETFROM:-0500
TZOFFSETTO:-0600
RDATE:20241103T020000
RDATE:20251102T020000
END:STANDARD
BEGIN:DAYLIGHT
TZNAME:CDT
DTSTART:20240310T020000
TZOFFSETFROM:-0600
TZOFFSETTO:-0500
RDATE:20250309T020000
END:DAYLIGHT
END:VTIMEZONE
BEGIN:VEVENT
UID:0295e42a-b8cd-4ca7-93c3-770b17139c6c
DTSTAMP:20260422T163721Z
DESCRIPTION:Residents will be working on varies art activities.\n\n*Residen
 ts only event*
DTSTART;TZID=America/Chicago:20240611T150000
DTEND;TZID=America/Chicago:20240611T170000
LOCATION:219 Flagship Bld\, Montgomery\, TX 77316 US
SUMMARY:The Heritage: Arts & Crafts
END:VEVENT
END:VCALENDAR
