BEGIN:VCALENDAR
VERSION:2.0
PRODID:-//empowercdc.org//NONSGML kigkonsult.se iCalcreator 2.30.10//
CALSCALE:GREGORIAN
METHOD:PUBLISH
UID:18365c60-6a33-441d-8047-637ec492a6c4
X-WR-CALDESC:Game Day: Dominoes\n\n*Residents only event*
X-WR-RELCALID:42759969d37482fe1df2485e8b1074a9
X-WR-TIMEZONE:America/Chicago
BEGIN:VTIMEZONE
TZID:America/Chicago
BEGIN:STANDARD
TZNAME:CST
DTSTART:20231105T020000
TZOFFSETFROM:-0500
TZOFFSETTO:-0600
RDATE:20241103T020000
RDATE:20251102T020000
END:STANDARD
BEGIN:DAYLIGHT
TZNAME:CDT
DTSTART:20240310T020000
TZOFFSETFROM:-0600
TZOFFSETTO:-0500
RDATE:20250309T020000
END:DAYLIGHT
END:VTIMEZONE
BEGIN:VEVENT
UID:49a52150-63ba-4d73-88e8-001b9011c2dd
DTSTAMP:20260422T163736Z
DESCRIPTION:Game Day: Dominoes\n\n*Residents only event*
DTSTART;TZID=America/Chicago:20240611T130000
DTEND;TZID=America/Chicago:20240611T150000
LOCATION:1120 Moy St\, Houston\, TX 77007 US
SUMMARY:The Heritage 55+: Game Day
END:VEVENT
END:VCALENDAR
