BEGIN:VCALENDAR
VERSION:2.0
PRODID:-//empowercdc.org//NONSGML kigkonsult.se iCalcreator 2.30.10//
CALSCALE:GREGORIAN
METHOD:PUBLISH
UID:63027612-ac4f-46d1-bba7-b9358531b8ee
X-WR-CALDESC:Residents will be working on varies art activities.\n\n*Reside
 nts only event*
X-WR-RELCALID:c6a59d1fd0b742765b8294b0c8ff0f3d
X-WR-TIMEZONE:America/Chicago
BEGIN:VTIMEZONE
TZID:America/Chicago
BEGIN:STANDARD
TZNAME:CST
DTSTART:20231105T020000
TZOFFSETFROM:-0500
TZOFFSETTO:-0600
RDATE:20241103T020000
RDATE:20251102T020000
END:STANDARD
BEGIN:DAYLIGHT
TZNAME:CDT
DTSTART:20240310T020000
TZOFFSETFROM:-0600
TZOFFSETTO:-0500
RDATE:20250309T020000
END:DAYLIGHT
END:VTIMEZONE
BEGIN:VEVENT
UID:0fdb0cfc-cab5-493f-96d2-2c9cc52950d1
DTSTAMP:20260422T164042Z
DESCRIPTION:Residents will be working on varies art activities.\n\n*Residen
 ts only event*
DTSTART;TZID=America/Chicago:20240611T130000
DTEND;TZID=America/Chicago:20240611T150000
LOCATION:1120 Moy St\, Houston\, TX 77007 US
SUMMARY:The Heritage 55+: Arts & Crafts
END:VEVENT
END:VCALENDAR
