BEGIN:VCALENDAR
VERSION:2.0
PRODID:-//empowercdc.org//NONSGML kigkonsult.se iCalcreator 2.30.10//
CALSCALE:GREGORIAN
METHOD:PUBLISH
UID:1b223a76-a158-457e-9398-d032dc94bb7e
X-WR-CALDESC:Fitness Bingo exercise.\n\n*Resident event only*
X-WR-RELCALID:e29ad24d4acbec23be3cadc38d56dca1
X-WR-TIMEZONE:America/Chicago
BEGIN:VTIMEZONE
TZID:America/Chicago
BEGIN:STANDARD
TZNAME:CST
DTSTART:20231105T020000
TZOFFSETFROM:-0500
TZOFFSETTO:-0600
RDATE:20241103T020000
RDATE:20251102T020000
END:STANDARD
BEGIN:DAYLIGHT
TZNAME:CDT
DTSTART:20240310T020000
TZOFFSETFROM:-0600
TZOFFSETTO:-0500
RDATE:20250309T020000
END:DAYLIGHT
END:VTIMEZONE
BEGIN:VEVENT
UID:2e0c9bc0-8435-4923-8a05-2f8f017cc08d
DTSTAMP:20260422T163920Z
DESCRIPTION:Fitness Bingo exercise.\n\n*Resident event only*
DTSTART;TZID=America/Chicago:20240611T133000
DTEND;TZID=America/Chicago:20240611T153000
LOCATION:15707 Kuykendahl Ct\, Conroe\, TX 77384 US
SUMMARY:Kuykendalh Court: Exercise
END:VEVENT
END:VCALENDAR
