BEGIN:VCALENDAR
VERSION:2.0
PRODID:-//empowercdc.org//NONSGML kigkonsult.se iCalcreator 2.30.10//
CALSCALE:GREGORIAN
METHOD:PUBLISH
UID:c26462c9-fa8b-47ed-8ec8-8dfc3945e75d
X-WR-CALDESC:
X-WR-RELCALID:f3c55b892ed1031bae092de62932af6c
X-WR-TIMEZONE:America/Chicago
BEGIN:VTIMEZONE
TZID:America/Chicago
BEGIN:STANDARD
TZNAME:CST
DTSTART:20231105T020000
TZOFFSETFROM:-0500
TZOFFSETTO:-0600
RDATE:20241103T020000
RDATE:20251102T020000
END:STANDARD
BEGIN:DAYLIGHT
TZNAME:CDT
DTSTART:20240310T020000
TZOFFSETFROM:-0600
TZOFFSETTO:-0500
RDATE:20250309T020000
END:DAYLIGHT
END:VTIMEZONE
BEGIN:VEVENT
UID:3f2ef31e-5a2a-4d83-b9de-660ef2439fe0
DTSTAMP:20260422T145913Z
DESCRIPTION:
DTSTART;TZID=America/Chicago:20240531T110000
DTEND;TZID=America/Chicago:20240531T120000
LOCATION:1717 FM359\, Richmond\, TX 77406 US
SUMMARY:Exercise: Walk With Me Challenge
END:VEVENT
END:VCALENDAR
