BEGIN:VCALENDAR
VERSION:2.0
PRODID:-//empowercdc.org//NONSGML kigkonsult.se iCalcreator 2.30.10//
CALSCALE:GREGORIAN
METHOD:PUBLISH
UID:1b4793d2-e444-4581-978d-daeb669773ad
X-WR-CALDESC:
X-WR-RELCALID:da52c15a0017ce987898cffa7af744ec
X-WR-TIMEZONE:America/Chicago
BEGIN:VTIMEZONE
TZID:America/Chicago
BEGIN:STANDARD
TZNAME:CST
DTSTART:20231105T020000
TZOFFSETFROM:-0500
TZOFFSETTO:-0600
RDATE:20241103T020000
RDATE:20251102T020000
END:STANDARD
BEGIN:DAYLIGHT
TZNAME:CDT
DTSTART:20240310T020000
TZOFFSETFROM:-0600
TZOFFSETTO:-0500
RDATE:20250309T020000
END:DAYLIGHT
END:VTIMEZONE
BEGIN:VEVENT
UID:917f50ba-a073-4050-b070-102f92cc8093
DTSTAMP:20260422T145940Z
DESCRIPTION:
DTSTART;TZID=America/Chicago:20240531T033000
DTEND;TZID=America/Chicago:20240531T170000
LOCATION:1620 Spencer Hwy\, South Houston\, TX 77587 US
SUMMARY:Arts & Crafts: Decorative Boxes
END:VEVENT
END:VCALENDAR
