BEGIN:VCALENDAR
VERSION:2.0
PRODID:-//empowercdc.org//NONSGML kigkonsult.se iCalcreator 2.30.10//
CALSCALE:GREGORIAN
METHOD:PUBLISH
UID:6108bf8b-9631-4c83-a2f9-4d34ce93b4a0
X-WR-CALDESC:
X-WR-RELCALID:4b34c56ae07b6adf47bcbeac97342dc9
X-WR-TIMEZONE:America/Chicago
BEGIN:VTIMEZONE
TZID:America/Chicago
BEGIN:STANDARD
TZNAME:CST
DTSTART:20231105T020000
TZOFFSETFROM:-0500
TZOFFSETTO:-0600
RDATE:20241103T020000
RDATE:20251102T020000
END:STANDARD
BEGIN:DAYLIGHT
TZNAME:CDT
DTSTART:20240310T020000
TZOFFSETFROM:-0600
TZOFFSETTO:-0500
RDATE:20250309T020000
END:DAYLIGHT
END:VTIMEZONE
BEGIN:VEVENT
UID:5c162670-eee9-48ee-b4b4-30b15212808c
DTSTAMP:20260422T145642Z
DESCRIPTION:
DTSTART;TZID=America/Chicago:20240528T110000
DTEND;TZID=America/Chicago:20240528T120000
LOCATION:1830 Hollyoak Dr\, Houston\, TX 77084 US
SUMMARY:Tai Chi Basics Exercise
END:VEVENT
END:VCALENDAR
