BEGIN:VCALENDAR
VERSION:2.0
PRODID:-//empowercdc.org//NONSGML kigkonsult.se iCalcreator 2.30.10//
CALSCALE:GREGORIAN
METHOD:PUBLISH
UID:fb08ca67-ef2c-453c-ab1a-d6f5db0011c0
X-WR-CALDESC:
X-WR-RELCALID:4b57748e47f1f6aa47ceb02d1035e69d
X-WR-TIMEZONE:America/Chicago
BEGIN:VTIMEZONE
TZID:America/Chicago
BEGIN:STANDARD
TZNAME:CST
DTSTART:20231105T020000
TZOFFSETFROM:-0500
TZOFFSETTO:-0600
RDATE:20241103T020000
RDATE:20251102T020000
END:STANDARD
BEGIN:DAYLIGHT
TZNAME:CDT
DTSTART:20240310T020000
TZOFFSETFROM:-0600
TZOFFSETTO:-0500
RDATE:20250309T020000
END:DAYLIGHT
END:VTIMEZONE
BEGIN:VEVENT
UID:61a815be-b443-4e8e-a752-2a7ee4e6dcce
DTSTAMP:20260422T145907Z
DESCRIPTION:
DTSTART;TZID=America/Chicago:20240523T110000
DTEND;TZID=America/Chicago:20240523T120000
LOCATION:1717 FM359\, Richmond\, TX 77406\, Richmond\, TX 77406 US
SUMMARY:Exercise: Walk With Me Challenge
END:VEVENT
END:VCALENDAR
