BEGIN:VCALENDAR
VERSION:2.0
PRODID:-//empowercdc.org//NONSGML kigkonsult.se iCalcreator 2.30.10//
CALSCALE:GREGORIAN
METHOD:PUBLISH
UID:3079560a-ab2d-4836-8303-b75497b58256
X-WR-CALDESC:
X-WR-RELCALID:242cc73385eee3ded949011d36872767
X-WR-TIMEZONE:America/Chicago
BEGIN:VTIMEZONE
TZID:America/Chicago
BEGIN:STANDARD
TZNAME:CST
DTSTART:20231105T020000
TZOFFSETFROM:-0500
TZOFFSETTO:-0600
RDATE:20241103T020000
RDATE:20251102T020000
END:STANDARD
BEGIN:DAYLIGHT
TZNAME:CDT
DTSTART:20240310T020000
TZOFFSETFROM:-0600
TZOFFSETTO:-0500
RDATE:20250309T020000
END:DAYLIGHT
END:VTIMEZONE
BEGIN:VEVENT
UID:6ae58f54-26c1-46e8-a9b9-592fba0c6015
DTSTAMP:20260422T150359Z
DESCRIPTION:
DTSTART;TZID=America/Chicago:20240523T160000
DTEND;TZID=America/Chicago:20240523T180000
LOCATION:12353 Huffmeister Rd\, Cypress\, TX 77429 US
SUMMARY:Arts & Crafts: Jewelry Box
END:VEVENT
END:VCALENDAR
