BEGIN:VCALENDAR
VERSION:2.0
PRODID:-//empowercdc.org//NONSGML kigkonsult.se iCalcreator 2.30.10//
CALSCALE:GREGORIAN
METHOD:PUBLISH
UID:54cb3a4c-b4f3-4f9f-be3e-4c80485b02e2
X-WR-CALDESC:
X-WR-RELCALID:61aa40923fe58fe686e9016f3bc17aa1
X-WR-TIMEZONE:America/Chicago
BEGIN:VTIMEZONE
TZID:America/Chicago
BEGIN:STANDARD
TZNAME:CST
DTSTART:20231105T020000
TZOFFSETFROM:-0500
TZOFFSETTO:-0600
RDATE:20241103T020000
RDATE:20251102T020000
END:STANDARD
BEGIN:DAYLIGHT
TZNAME:CDT
DTSTART:20240310T020000
TZOFFSETFROM:-0600
TZOFFSETTO:-0500
RDATE:20250309T020000
END:DAYLIGHT
END:VTIMEZONE
BEGIN:VEVENT
UID:db8ff252-8e5a-41e9-9a33-0f36f9e937d9
DTSTAMP:20260422T150352Z
DESCRIPTION:
DTSTART;TZID=America/Chicago:20240523T110000
DTEND;TZID=America/Chicago:20240523T120000
LOCATION:1830 Hollyoak Dr\, Houston\, TX 77084 US
SUMMARY:Arts & Crafts: Jewelry Box Making
END:VEVENT
END:VCALENDAR
