BEGIN:VCALENDAR
VERSION:2.0
PRODID:-//empowercdc.org//NONSGML kigkonsult.se iCalcreator 2.30.10//
CALSCALE:GREGORIAN
METHOD:PUBLISH
UID:ef804f79-53d3-461b-bdd1-6e8b5c07afd5
X-WR-CALDESC:
X-WR-RELCALID:2f616649a096c522b48160c838f6f09b
X-WR-TIMEZONE:America/Chicago
BEGIN:VTIMEZONE
TZID:America/Chicago
BEGIN:STANDARD
TZNAME:CST
DTSTART:20231105T020000
TZOFFSETFROM:-0500
TZOFFSETTO:-0600
RDATE:20241103T020000
RDATE:20251102T020000
END:STANDARD
BEGIN:DAYLIGHT
TZNAME:CDT
DTSTART:20240310T020000
TZOFFSETFROM:-0600
TZOFFSETTO:-0500
RDATE:20250309T020000
END:DAYLIGHT
END:VTIMEZONE
BEGIN:VEVENT
UID:5aab17b7-3ee1-4207-ad9e-5940207f94bd
DTSTAMP:20260422T145610Z
DESCRIPTION:
DTSTART;TZID=America/Chicago:20240521T110000
DTEND;TZID=America/Chicago:20240521T120000
LOCATION:1830 Hollyoak Dr\, Houston\, TX 77084 US
SUMMARY:Tai Chi Basics Exercise
END:VEVENT
END:VCALENDAR
