BEGIN:VCALENDAR
VERSION:2.0
PRODID:-//empowercdc.org//NONSGML kigkonsult.se iCalcreator 2.30.10//
CALSCALE:GREGORIAN
METHOD:PUBLISH
UID:1d48fd51-aa05-4e10-9340-c19442f41879
X-WR-CALDESC:
X-WR-RELCALID:2a43d8e483d071a498a785aa892b7690
X-WR-TIMEZONE:America/Chicago
BEGIN:VTIMEZONE
TZID:America/Chicago
BEGIN:STANDARD
TZNAME:CST
DTSTART:20231105T020000
TZOFFSETFROM:-0500
TZOFFSETTO:-0600
RDATE:20241103T020000
RDATE:20251102T020000
END:STANDARD
BEGIN:DAYLIGHT
TZNAME:CDT
DTSTART:20240310T020000
TZOFFSETFROM:-0600
TZOFFSETTO:-0500
RDATE:20250309T020000
END:DAYLIGHT
END:VTIMEZONE
BEGIN:VEVENT
UID:408fec64-d01e-4a35-a37d-fa3cc0d7e7f4
DTSTAMP:20260422T145617Z
DESCRIPTION:
DTSTART;TZID=America/Chicago:20240521T160000
DTEND;TZID=America/Chicago:20240521T170000
LOCATION:12353 Huffmeister Rd\, Cypress\, TX 77429 US
SUMMARY:Mindful Meditation Exercise
END:VEVENT
END:VCALENDAR
