BEGIN:VCALENDAR
VERSION:2.0
PRODID:-//empowercdc.org//NONSGML kigkonsult.se iCalcreator 2.30.10//
CALSCALE:GREGORIAN
METHOD:PUBLISH
UID:ad7e2390-7ce8-4991-b4c6-99c40480ee37
X-WR-CALDESC:
X-WR-RELCALID:57d378f998636720d904c2906134f0bc
X-WR-TIMEZONE:America/Chicago
BEGIN:VTIMEZONE
TZID:America/Chicago
BEGIN:STANDARD
TZNAME:CST
DTSTART:20231105T020000
TZOFFSETFROM:-0500
TZOFFSETTO:-0600
RDATE:20241103T020000
RDATE:20251102T020000
END:STANDARD
BEGIN:DAYLIGHT
TZNAME:CDT
DTSTART:20240310T020000
TZOFFSETFROM:-0600
TZOFFSETTO:-0500
RDATE:20250309T020000
END:DAYLIGHT
END:VTIMEZONE
BEGIN:VEVENT
UID:1882eff7-9552-4762-985b-d344f489c019
DTSTAMP:20260422T145740Z
DESCRIPTION:
DTSTART;TZID=America/Chicago:20240521T153000
DTEND;TZID=America/Chicago:20240521T170000
LOCATION:219 Flagship Bld\, Montgomery\, TX 77316 US
SUMMARY:Bingo Social
END:VEVENT
END:VCALENDAR
