BEGIN:VCALENDAR
VERSION:2.0
PRODID:-//empowercdc.org//NONSGML kigkonsult.se iCalcreator 2.30.10//
CALSCALE:GREGORIAN
METHOD:PUBLISH
UID:e9e5070f-4ed2-4ea8-a29a-609b35e37687
X-WR-CALDESC:
X-WR-RELCALID:27cc10d199d7fbac6c472584b4360756
X-WR-TIMEZONE:America/Chicago
BEGIN:VTIMEZONE
TZID:America/Chicago
BEGIN:STANDARD
TZNAME:CST
DTSTART:20231105T020000
TZOFFSETFROM:-0500
TZOFFSETTO:-0600
RDATE:20241103T020000
RDATE:20251102T020000
END:STANDARD
BEGIN:DAYLIGHT
TZNAME:CDT
DTSTART:20240310T020000
TZOFFSETFROM:-0600
TZOFFSETTO:-0500
RDATE:20250309T020000
END:DAYLIGHT
END:VTIMEZONE
BEGIN:VEVENT
UID:490860a3-82b8-416b-8797-2cc6c8b381e4
DTSTAMP:20260422T150353Z
DESCRIPTION:
DTSTART;TZID=America/Chicago:20240517T153000
DTEND;TZID=America/Chicago:20240517T170000
LOCATION:1620 Spencer Hwy\, South Houston\, TX 77587 US
SUMMARY:Arts & Crafts: Jewelry Boxes
END:VEVENT
END:VCALENDAR
