BEGIN:VCALENDAR
VERSION:2.0
PRODID:-//empowercdc.org//NONSGML kigkonsult.se iCalcreator 2.30.10//
CALSCALE:GREGORIAN
METHOD:PUBLISH
UID:e4ac4b42-16af-471f-9841-8a44ab79c6c0
X-WR-CALDESC:
X-WR-RELCALID:7ed2ff8f7ec0c291c80f5601b16e7cdc
X-WR-TIMEZONE:America/Chicago
BEGIN:VTIMEZONE
TZID:America/Chicago
BEGIN:STANDARD
TZNAME:CST
DTSTART:20231105T020000
TZOFFSETFROM:-0500
TZOFFSETTO:-0600
RDATE:20241103T020000
RDATE:20251102T020000
END:STANDARD
BEGIN:DAYLIGHT
TZNAME:CDT
DTSTART:20240310T020000
TZOFFSETFROM:-0600
TZOFFSETTO:-0500
RDATE:20250309T020000
END:DAYLIGHT
END:VTIMEZONE
BEGIN:VEVENT
UID:122bfd93-43dc-402e-ba10-ecd7c179809b
DTSTAMP:20260422T150240Z
DESCRIPTION:
DTSTART;TZID=America/Chicago:20240516T120000
DTEND;TZID=America/Chicago:20240516T150000
LOCATION:219 Flagship Bld\, Montgomery\, TX 77316 US
SUMMARY:Food Pantry
END:VEVENT
END:VCALENDAR
