BEGIN:VCALENDAR
VERSION:2.0
PRODID:-//empowercdc.org//NONSGML kigkonsult.se iCalcreator 2.30.10//
CALSCALE:GREGORIAN
METHOD:PUBLISH
UID:4bbcd399-b784-473b-8bfa-16787c79925f
X-WR-CALDESC:
X-WR-RELCALID:6287fd04432683728fba35831a3701d2
X-WR-TIMEZONE:America/Chicago
BEGIN:VTIMEZONE
TZID:America/Chicago
BEGIN:STANDARD
TZNAME:CST
DTSTART:20231105T020000
TZOFFSETFROM:-0500
TZOFFSETTO:-0600
RDATE:20241103T020000
RDATE:20251102T020000
END:STANDARD
BEGIN:DAYLIGHT
TZNAME:CDT
DTSTART:20240310T020000
TZOFFSETFROM:-0600
TZOFFSETTO:-0500
RDATE:20250309T020000
END:DAYLIGHT
END:VTIMEZONE
BEGIN:VEVENT
UID:3e63d22b-ef59-4ed8-86d2-321a3d27e65e
DTSTAMP:20260422T145735Z
DESCRIPTION:
DTSTART;TZID=America/Chicago:20240516T160000
DTEND;TZID=America/Chicago:20240516T180000
LOCATION:12353 Huffmeister Rd\, Cypress\, TX 77429 US
SUMMARY:Character Building
END:VEVENT
END:VCALENDAR
