BEGIN:VCALENDAR
VERSION:2.0
PRODID:-//empowercdc.org//NONSGML kigkonsult.se iCalcreator 2.30.10//
CALSCALE:GREGORIAN
METHOD:PUBLISH
UID:f77d884c-2d01-408f-adf9-4ee0334163f6
X-WR-CALDESC:
X-WR-RELCALID:bfe1c92396c0c6fb5ac2b72e15e61607
X-WR-TIMEZONE:America/Chicago
BEGIN:VTIMEZONE
TZID:America/Chicago
BEGIN:STANDARD
TZNAME:CST
DTSTART:20231105T020000
TZOFFSETFROM:-0500
TZOFFSETTO:-0600
RDATE:20241103T020000
RDATE:20251102T020000
END:STANDARD
BEGIN:DAYLIGHT
TZNAME:CDT
DTSTART:20240310T020000
TZOFFSETFROM:-0600
TZOFFSETTO:-0500
RDATE:20250309T020000
END:DAYLIGHT
END:VTIMEZONE
BEGIN:VEVENT
UID:eb576186-a504-4d55-b0bd-1baaf65a26bf
DTSTAMP:20260422T145734Z
DESCRIPTION:
DTSTART;TZID=America/Chicago:20240513T153000
DTEND;TZID=America/Chicago:20240513T170000
LOCATION:
SUMMARY:Exercise: Walk With Me Challenge
END:VEVENT
END:VCALENDAR
