BEGIN:VCALENDAR
VERSION:2.0
PRODID:-//empowercdc.org//NONSGML kigkonsult.se iCalcreator 2.30.10//
CALSCALE:GREGORIAN
METHOD:PUBLISH
UID:73ec5f48-3a22-43b6-98e9-5d487feb7315
X-WR-CALDESC:
X-WR-RELCALID:fa5cdbdd7e602b65e756771e669993f1
X-WR-TIMEZONE:America/Chicago
BEGIN:VTIMEZONE
TZID:America/Chicago
BEGIN:STANDARD
TZNAME:CST
DTSTART:20231105T020000
TZOFFSETFROM:-0500
TZOFFSETTO:-0600
RDATE:20241103T020000
RDATE:20251102T020000
END:STANDARD
BEGIN:DAYLIGHT
TZNAME:CDT
DTSTART:20240310T020000
TZOFFSETFROM:-0600
TZOFFSETTO:-0500
RDATE:20250309T020000
END:DAYLIGHT
END:VTIMEZONE
BEGIN:VEVENT
UID:daeb6d54-6cf6-4d7b-ac88-16807fabbf7e
DTSTAMP:20260422T145609Z
DESCRIPTION:
DTSTART;TZID=America/Chicago:20240510T110000
DTEND;TZID=America/Chicago:20240510T120000
LOCATION:
SUMMARY:Learn & Learn AARP
END:VEVENT
END:VCALENDAR
