BEGIN:VCALENDAR
VERSION:2.0
PRODID:-//empowercdc.org//NONSGML kigkonsult.se iCalcreator 2.30.10//
CALSCALE:GREGORIAN
METHOD:PUBLISH
UID:ab1b5f75-58ab-4756-a071-abec09b47021
X-WR-CALDESC:
X-WR-RELCALID:f6620ff4e124f1a2c2e4c6962c1b554d
X-WR-TIMEZONE:America/Chicago
BEGIN:VTIMEZONE
TZID:America/Chicago
BEGIN:STANDARD
TZNAME:CST
DTSTART:20231105T020000
TZOFFSETFROM:-0500
TZOFFSETTO:-0600
RDATE:20241103T020000
RDATE:20251102T020000
END:STANDARD
BEGIN:DAYLIGHT
TZNAME:CDT
DTSTART:20240310T020000
TZOFFSETFROM:-0600
TZOFFSETTO:-0500
RDATE:20250309T020000
END:DAYLIGHT
END:VTIMEZONE
BEGIN:VEVENT
UID:fa0a62e9-2a06-4ae6-a88f-4eb452657663
DTSTAMP:20260422T145959Z
DESCRIPTION:
DTSTART;TZID=America/Chicago:20240509T120000
DTEND;TZID=America/Chicago:20240509T130000
LOCATION:
SUMMARY:Luncheon for Mom
END:VEVENT
END:VCALENDAR
