BEGIN:VCALENDAR
VERSION:2.0
PRODID:-//empowercdc.org//NONSGML kigkonsult.se iCalcreator 2.30.10//
CALSCALE:GREGORIAN
METHOD:PUBLISH
UID:d58106c4-135f-49f8-ac91-72b232fa6b18
X-WR-CALDESC:
X-WR-RELCALID:54689fa99b352520f9b3b3cee6d91b26
X-WR-TIMEZONE:America/Chicago
BEGIN:VTIMEZONE
TZID:America/Chicago
BEGIN:STANDARD
TZNAME:CST
DTSTART:20231105T020000
TZOFFSETFROM:-0500
TZOFFSETTO:-0600
RDATE:20241103T020000
RDATE:20251102T020000
END:STANDARD
BEGIN:DAYLIGHT
TZNAME:CDT
DTSTART:20240310T020000
TZOFFSETFROM:-0600
TZOFFSETTO:-0500
RDATE:20250309T020000
END:DAYLIGHT
END:VTIMEZONE
BEGIN:VEVENT
UID:71573573-dabb-4ad5-8bb3-ceb7e45b2179
DTSTAMP:20260422T150537Z
DESCRIPTION:
DTSTART;TZID=America/Chicago:20240509T153000
DTEND;TZID=America/Chicago:20240509T170000
LOCATION:
SUMMARY:Game Day: Dominoes / Spades / Hearts
END:VEVENT
END:VCALENDAR
