BEGIN:VCALENDAR
VERSION:2.0
PRODID:-//empowercdc.org//NONSGML kigkonsult.se iCalcreator 2.30.10//
CALSCALE:GREGORIAN
METHOD:PUBLISH
UID:7fb6ba5d-d0cb-42e3-a501-33132bbd42b8
X-WR-CALDESC:
X-WR-RELCALID:b682f81852c46364c4acca9df325906d
X-WR-TIMEZONE:America/Chicago
BEGIN:VTIMEZONE
TZID:America/Chicago
BEGIN:STANDARD
TZNAME:CST
DTSTART:20231105T020000
TZOFFSETFROM:-0500
TZOFFSETTO:-0600
RDATE:20241103T020000
RDATE:20251102T020000
END:STANDARD
BEGIN:DAYLIGHT
TZNAME:CDT
DTSTART:20240310T020000
TZOFFSETFROM:-0600
TZOFFSETTO:-0500
RDATE:20250309T020000
END:DAYLIGHT
END:VTIMEZONE
BEGIN:VEVENT
UID:7e5fbf74-eed7-44a3-94d4-4f7fee823080
DTSTAMP:20260422T150035Z
DESCRIPTION:
DTSTART;TZID=America/Chicago:20240509T130000
DTEND;TZID=America/Chicago:20240509T140000
LOCATION:
SUMMARY:Blooms for Moms
END:VEVENT
END:VCALENDAR
